BEGIN:VCALENDAR
VERSION:2.0
PRODID:-//Venue Church - ECPv5.16.4//NONSGML v1.0//EN
CALSCALE:GREGORIAN
METHOD:PUBLISH
X-WR-CALNAME:Venue Church
X-ORIGINAL-URL:https://venuechurchonline.com
X-WR-CALDESC:Events for Venue Church
BEGIN:VTIMEZONE
TZID:UTC
BEGIN:STANDARD
TZOFFSETFROM:+0000
TZOFFSETTO:+0000
TZNAME:UTC
DTSTART:20150101T000000
END:STANDARD
END:VTIMEZONE
BEGIN:VEVENT
DTSTART;TZID=UTC:20151227T100000
DTEND;TZID=UTC:20151227T111000
DTSTAMP:20260425T173340
CREATED:20151224T051505Z
LAST-MODIFIED:20151224T051746Z
UID:23014-1451210400-1451214600@venuechurchonline.com
SUMMARY:Venue's After Christmas Breakfast FREE@10am 12|27|15 Avon Isle: 37080 Detroit Rd. Avon
DESCRIPTION:After Christmas Breakfast @The Venue Avon
URL:https://venuechurchonline.com/event/venues-after-christmas-breakfast-free10am-122715-avon-isle-37080-detroit-rd-avon/
LOCATION:Venue @Avon Isle\, 37080 Detroit Rd. \, Avon \, OH\, United States
END:VEVENT
END:VCALENDAR