BEGIN:VCALENDAR
VERSION:2.0
PRODID:-//Venue Church - ECPv5.16.4//NONSGML v1.0//EN
CALSCALE:GREGORIAN
METHOD:PUBLISH
X-WR-CALNAME:Venue Church
X-ORIGINAL-URL:https://venuechurchonline.com
X-WR-CALDESC:Events for Venue Church
BEGIN:VTIMEZONE
TZID:UTC
BEGIN:STANDARD
TZOFFSETFROM:+0000
TZOFFSETTO:+0000
TZNAME:UTC
DTSTART:20150101T000000
END:STANDARD
END:VTIMEZONE
BEGIN:VEVENT
DTSTART;TZID=UTC:20150419T100000
DTEND;TZID=UTC:20150419T111500
DTSTAMP:20260425T173130
CREATED:20150419T001921Z
LAST-MODIFIED:20150418T204404Z
UID:22782-1429437600-1429442100@venuechurchonline.com
SUMMARY:Sunday Celebration Service
DESCRIPTION:We invite you to join us this weekend! Enjoy a life-giving message\, powerful worship and smiling faces to fuel you for the week! Sermon: EPIC COURAGE
URL:https://venuechurchonline.com/event/sunday-celebration-service/
LOCATION:The Venue Church\, 3100 Nagel Rd.\, Avon\, OH\, 44011\, United States
END:VEVENT
END:VCALENDAR