BEGIN:VCALENDAR
VERSION:2.0
PRODID:-//Venue Church - ECPv5.16.4//NONSGML v1.0//EN
CALSCALE:GREGORIAN
METHOD:PUBLISH
X-WR-CALNAME:Venue Church
X-ORIGINAL-URL:https://venuechurchonline.com
X-WR-CALDESC:Events for Venue Church
BEGIN:VTIMEZONE
TZID:UTC
BEGIN:STANDARD
TZOFFSETFROM:+0000
TZOFFSETTO:+0000
TZNAME:UTC
DTSTART:20160101T000000
END:STANDARD
END:VTIMEZONE
BEGIN:VEVENT
DTSTART;TZID=UTC:20160131T190000
DTEND;TZID=UTC:20160131T210000
DTSTAMP:20260425T173606
CREATED:20160119T192336Z
LAST-MODIFIED:20160119T192434Z
UID:23031-1454266800-1454274000@venuechurchonline.com
SUMMARY:Community Prayer Night at The Venue
DESCRIPTION:You are warmly welcome to join us. We love these nights in the community to pray for the city of Avon\, cities represented\, Cleveland\, our government\, our country and one another! Join us for a powerful night of prayer and some worship from Venue Band. We’ll have free Starbucks and light snacks. \nChildren are welcome. We’ll have a coloring station for them and a space for Mom’s to nurse. You don’t want to miss a night of refreshing. We do them all throughout the year! Prayer changes everything! \nCheck out our upcoming events in the future for more details on the time and Venue location of the next prayer meeting.
URL:https://venuechurchonline.com/event/community-prayer-night-at-the-venue/
LOCATION:Venue @Avon Isle\, 37080 Detroit Rd. \, Avon \, OH\, United States
END:VEVENT
END:VCALENDAR